BEGIN:VCALENDAR
VERSION:2.0
PRODID:-//CERN//INDICO//EN
BEGIN:VEVENT
SUMMARY:SUSY searches at ATLAS and new directions
DTSTART;VALUE=DATE-TIME:20191022T070000Z
DTEND;VALUE=DATE-TIME:20191022T072000Z
DTSTAMP;VALUE=DATE-TIME:20260424T045102Z
UID:indico-contribution-11577@indico.ific.uv.es
DESCRIPTION:Speakers: Vasiliki Mitsou (IFIC Valencia)\nhttps://indico.ific
 .uv.es/event/3780/contributions/11577/
LOCATION:
URL:https://indico.ific.uv.es/event/3780/contributions/11577/
END:VEVENT
END:VCALENDAR
