BEGIN:VCALENDAR
VERSION:2.0
PRODID:-//CERN//INDICO//EN
BEGIN:VEVENT
SUMMARY:Dark Matter searches with the ATLAS detector
DTSTART;VALUE=DATE-TIME:20191021T163000Z
DTEND;VALUE=DATE-TIME:20191021T165000Z
DTSTAMP;VALUE=DATE-TIME:20260422T085811Z
UID:indico-contribution-11574@indico.ific.uv.es
DESCRIPTION:Speakers: Danijela Bogavac (IFAE - Barcelona)\nhttps://indico.
 ific.uv.es/event/3780/contributions/11574/
LOCATION:
URL:https://indico.ific.uv.es/event/3780/contributions/11574/
END:VEVENT
END:VCALENDAR
