BEGIN:VCALENDAR
VERSION:2.0
PRODID:-//CERN//INDICO//EN
BEGIN:VEVENT
SUMMARY:Displaced di-leptons in the munuSSM at the LHC
DTSTART;VALUE=DATE-TIME:20191021T161000Z
DTEND;VALUE=DATE-TIME:20191021T163000Z
DTSTAMP;VALUE=DATE-TIME:20260422T151920Z
UID:indico-contribution-11573@indico.ific.uv.es
DESCRIPTION:Speakers: Essodjolo Kpatcha (Instituto de Física Teórica UAM
 /CSIC)\nhttps://indico.ific.uv.es/event/3780/contributions/11573/
LOCATION:
URL:https://indico.ific.uv.es/event/3780/contributions/11573/
END:VEVENT
END:VCALENDAR
