BEGIN:VCALENDAR
VERSION:2.0
PRODID:-//CERN//INDICO//EN
BEGIN:VEVENT
SUMMARY:ttH measurements in CMS at 13 TeV in multi-lepton final states
DTSTART;VALUE=DATE-TIME:20191021T144000Z
DTEND;VALUE=DATE-TIME:20191021T150000Z
DTSTAMP;VALUE=DATE-TIME:20260422T151918Z
UID:indico-contribution-11569@indico.ific.uv.es
DESCRIPTION:Speakers: Sergio Sanchez Cruz (Universidad de Oviedo)\nhttps:/
 /indico.ific.uv.es/event/3780/contributions/11569/
LOCATION:
URL:https://indico.ific.uv.es/event/3780/contributions/11569/
END:VEVENT
END:VCALENDAR
