BEGIN:VCALENDAR
VERSION:2.0
PRODID:-//CERN//INDICO//EN
BEGIN:VEVENT
SUMMARY:Tri-boson production at the LHC with VBFNLO and Herwig 7
DTSTART;VALUE=DATE-TIME:20191021T132000Z
DTEND;VALUE=DATE-TIME:20191021T134000Z
DTSTAMP;VALUE=DATE-TIME:20260424T045006Z
UID:indico-contribution-11565@indico.ific.uv.es
DESCRIPTION:Speakers: Iván Rosario ()\nhttps://indico.ific.uv.es/event/37
 80/contributions/11565/
LOCATION:
URL:https://indico.ific.uv.es/event/3780/contributions/11565/
END:VEVENT
END:VCALENDAR
