BEGIN:VCALENDAR
VERSION:2.0
PRODID:-//CERN//INDICO//EN
BEGIN:VEVENT
SUMMARY:Hybrid gamma imaging system for radioactive waste classification i
 n nuclear power plants decommissioning
DTSTART;VALUE=DATE-TIME:20191021T165000Z
DTEND;VALUE=DATE-TIME:20191021T171000Z
DTSTAMP;VALUE=DATE-TIME:20260424T113724Z
UID:indico-contribution-11554@indico.ific.uv.es
DESCRIPTION:Speakers: Luis Caballero (IFIC (CSIC/UV))\nhttps://indico.ific
 .uv.es/event/3780/contributions/11554/
LOCATION:
URL:https://indico.ific.uv.es/event/3780/contributions/11554/
END:VEVENT
END:VCALENDAR
