BEGIN:VCALENDAR
VERSION:2.0
PRODID:-//CERN//INDICO//EN
BEGIN:VEVENT
SUMMARY:Characterization of the neutron field at the ALBA synchrotron
DTSTART;VALUE=DATE-TIME:20191021T144000Z
DTEND;VALUE=DATE-TIME:20191021T150000Z
DTSTAMP;VALUE=DATE-TIME:20260422T115610Z
UID:indico-contribution-11551@indico.ific.uv.es
DESCRIPTION:Speakers: Miguel Ángel Caballero Pacheco (Universitat Autòno
 ma de Barcelona (UAB))\nhttps://indico.ific.uv.es/event/3780/contributions
 /11551/
LOCATION:
URL:https://indico.ific.uv.es/event/3780/contributions/11551/
END:VEVENT
END:VCALENDAR
