BEGIN:VCALENDAR
VERSION:2.0
PRODID:-//CERN//INDICO//EN
BEGIN:VEVENT
SUMMARY:Técnicas de imagen en el CNA
DTSTART;VALUE=DATE-TIME:20191021T142000Z
DTEND;VALUE=DATE-TIME:20191021T144000Z
DTSTAMP;VALUE=DATE-TIME:20260424T044954Z
UID:indico-contribution-11545@indico.ific.uv.es
DESCRIPTION:Speakers: María de los Ángeles Millán Callado (Universidad 
 de Sevilla - Centro Nacional de Aceleradores (US-CSIC-Junta de Andalucía)
 )\nhttps://indico.ific.uv.es/event/3780/contributions/11545/
LOCATION:
URL:https://indico.ific.uv.es/event/3780/contributions/11545/
END:VEVENT
END:VCALENDAR
