BEGIN:VCALENDAR
VERSION:2.0
PRODID:-//CERN//INDICO//EN
BEGIN:VEVENT
SUMMARY:Time resolved out-of-field secondary neutron dose measurements in 
 pencil beam scanning (PBS) proton therapy
DTSTART;VALUE=DATE-TIME:20191021T161000Z
DTEND;VALUE=DATE-TIME:20191021T163000Z
DTSTAMP;VALUE=DATE-TIME:20260424T044951Z
UID:indico-contribution-11544@indico.ific.uv.es
DESCRIPTION:Speakers: Ariel Tarifeño-Saldivia (Institut de Tècniques Ene
 rgètiques (INTE)\, Universitat Politècnica de Catalunya (UPC))\, B. Timm
 ermann (Westdeutsches Protonentherapiezentrum Essen gGmbH\, Deutschland\; 
 Westdeutsches Tumorzentrum (WTZ)\, Deutschland\; Universitätsklinikum Ess
 en\, Deutschland\; Deutsches Konsortium für Translationale Krebsforschung
 \, Deutschland\;Klinik für Partikeltherapie\, Essen\, Deutschland)\nhttps
 ://indico.ific.uv.es/event/3780/contributions/11544/
LOCATION:
URL:https://indico.ific.uv.es/event/3780/contributions/11544/
END:VEVENT
END:VCALENDAR
