BEGIN:VCALENDAR
VERSION:2.0
PRODID:-//CERN//INDICO//EN
BEGIN:VEVENT
SUMMARY:Protonterapia: oportunidades para experimentación en Madrid
DTSTART;VALUE=DATE-TIME:20191021T153000Z
DTEND;VALUE=DATE-TIME:20191021T155000Z
DTSTAMP;VALUE=DATE-TIME:20260422T151919Z
UID:indico-contribution-11543@indico.ific.uv.es
DESCRIPTION:Speakers: Daniel Sanchez Parcerisa (Universidad Complutense de
  Madrid)\nhttps://indico.ific.uv.es/event/3780/contributions/11543/
LOCATION:
URL:https://indico.ific.uv.es/event/3780/contributions/11543/
END:VEVENT
END:VCALENDAR
