BEGIN:VCALENDAR
VERSION:2.0
PRODID:-//CERN//INDICO//EN
BEGIN:VEVENT
SUMMARY:MACACO II results and further upgrades
DTSTART;VALUE=DATE-TIME:20191021T155000Z
DTEND;VALUE=DATE-TIME:20191021T161000Z
DTSTAMP;VALUE=DATE-TIME:20260422T082832Z
UID:indico-contribution-11542@indico.ific.uv.es
DESCRIPTION:Speakers: Gabriela Llosá (IFIC (CSIC-UV))\nhttps://indico.ifi
 c.uv.es/event/3780/contributions/11542/
LOCATION:
URL:https://indico.ific.uv.es/event/3780/contributions/11542/
END:VEVENT
END:VCALENDAR
