BEGIN:VCALENDAR
VERSION:2.0
PRODID:-//CERN//INDICO//EN
BEGIN:VEVENT
SUMMARY:Neutron dosimetry in pulsed fields with LINrem detectors
DTSTART;VALUE=DATE-TIME:20191022T083500Z
DTEND;VALUE=DATE-TIME:20191022T085500Z
DTSTAMP;VALUE=DATE-TIME:20260424T044953Z
UID:indico-contribution-11541@indico.ific.uv.es
DESCRIPTION:Speakers: Ariel Tarifeño-Saldivia (Institut de Tècniques Ene
 rgètiques (INTE)\, Universitat Politècnica de Catalunya (UPC))\nhttps://
 indico.ific.uv.es/event/3780/contributions/11541/
LOCATION:
URL:https://indico.ific.uv.es/event/3780/contributions/11541/
END:VEVENT
END:VCALENDAR
