BEGIN:VCALENDAR
VERSION:2.0
PRODID:-//CERN//INDICO//EN
BEGIN:VEVENT
SUMMARY:Use of a nuclear microbeam to study the radiation hardness of SiC 
 detectors
DTSTART;VALUE=DATE-TIME:20191021T130000Z
DTEND;VALUE=DATE-TIME:20191021T132000Z
DTSTAMP;VALUE=DATE-TIME:20260423T220640Z
UID:indico-contribution-11539@indico.ific.uv.es
DESCRIPTION:Speakers: Adrián Garcia Osuna (Centro Nacional de Aceleradore
 s)\nhttps://indico.ific.uv.es/event/3780/contributions/11539/
LOCATION:
URL:https://indico.ific.uv.es/event/3780/contributions/11539/
END:VEVENT
END:VCALENDAR
