BEGIN:VCALENDAR
VERSION:2.0
PRODID:-//CERN//INDICO//EN
BEGIN:VEVENT
SUMMARY:Blancos sólidos de He para experimentos de física nuclear básic
 a
DTSTART;VALUE=DATE-TIME:20191021T134000Z
DTEND;VALUE=DATE-TIME:20191021T140000Z
DTSTAMP;VALUE=DATE-TIME:20260422T151920Z
UID:indico-contribution-11538@indico.ific.uv.es
DESCRIPTION:Speakers: Francisco Javier Ferrer (Centro Nacional de Acelerad
 ores)\nhttps://indico.ific.uv.es/event/3780/contributions/11538/
LOCATION:
URL:https://indico.ific.uv.es/event/3780/contributions/11538/
END:VEVENT
END:VCALENDAR
