BEGIN:VCALENDAR
VERSION:2.0
PRODID:-//CERN//INDICO//EN
BEGIN:VEVENT
SUMMARY:RENATA network: current status
DTSTART;VALUE=DATE-TIME:20191021T130000Z
DTEND;VALUE=DATE-TIME:20191021T132000Z
DTSTAMP;VALUE=DATE-TIME:20260422T145253Z
UID:indico-contribution-11480@indico.ific.uv.es
DESCRIPTION:Speakers: Sergio Pastor (IFIC (CSIC-Univ Valencia))\nhttps://i
 ndico.ific.uv.es/event/3780/contributions/11480/
LOCATION:
URL:https://indico.ific.uv.es/event/3780/contributions/11480/
END:VEVENT
END:VCALENDAR
