BEGIN:VCALENDAR
VERSION:2.0
PRODID:-//CERN//INDICO//EN
BEGIN:VEVENT
SUMMARY:Light detection results in protoDUNE Dual-Phase at the CERN Neutri
 no Platform
DTSTART;VALUE=DATE-TIME:20191021T155000Z
DTEND;VALUE=DATE-TIME:20191021T161000Z
DTSTAMP;VALUE=DATE-TIME:20260422T143042Z
UID:indico-contribution-11462@indico.ific.uv.es
DESCRIPTION:Speakers: José Soto Otón (CIEMAT)\nhttps://indico.ific.uv.es
 /event/3780/contributions/11462/
LOCATION:
URL:https://indico.ific.uv.es/event/3780/contributions/11462/
END:VEVENT
END:VCALENDAR
