BEGIN:VCALENDAR
VERSION:2.0
PRODID:-//CERN//INDICO//EN
BEGIN:VEVENT
SUMMARY:Supernova neutrino and proton decay detection in DUNE
DTSTART;VALUE=DATE-TIME:20191021T161000Z
DTEND;VALUE=DATE-TIME:20191021T163000Z
DTSTAMP;VALUE=DATE-TIME:20260423T025205Z
UID:indico-contribution-11461@indico.ific.uv.es
DESCRIPTION:Speakers: Ana Gallego (CIEMAT)\nhttps://indico.ific.uv.es/even
 t/3780/contributions/11461/
LOCATION:
URL:https://indico.ific.uv.es/event/3780/contributions/11461/
END:VEVENT
END:VCALENDAR
