BEGIN:VCALENDAR
VERSION:2.0
PRODID:-//CERN//INDICO//EN
BEGIN:VEVENT
SUMMARY:ProtoDUNE-SP performance and future plans
DTSTART;VALUE=DATE-TIME:20191021T153000Z
DTEND;VALUE=DATE-TIME:20191021T155000Z
DTSTAMP;VALUE=DATE-TIME:20260422T143020Z
UID:indico-contribution-11460@indico.ific.uv.es
DESCRIPTION:Speakers: Miguel Ángel García Peris (IFIC (CSIC-Univ Valenci
 a))\nhttps://indico.ific.uv.es/event/3780/contributions/11460/
LOCATION:
URL:https://indico.ific.uv.es/event/3780/contributions/11460/
END:VEVENT
END:VCALENDAR
