BEGIN:VCALENDAR
VERSION:2.0
PRODID:-//CERN//INDICO//EN
BEGIN:VEVENT
SUMMARY:ANAIS−112 experiment in the search for dark matter annual modula
 tion: two years results
DTSTART;VALUE=DATE-TIME:20191022T091000Z
DTEND;VALUE=DATE-TIME:20191022T093000Z
DTSTAMP;VALUE=DATE-TIME:20260422T142944Z
UID:indico-contribution-11458@indico.ific.uv.es
DESCRIPTION:Speakers: Iván Coarasa (Universidad de Zaragoza)\nhttps://ind
 ico.ific.uv.es/event/3780/contributions/11458/
LOCATION:
URL:https://indico.ific.uv.es/event/3780/contributions/11458/
END:VEVENT
END:VCALENDAR
