BEGIN:VCALENDAR
VERSION:2.0
PRODID:-//CERN//INDICO//EN
BEGIN:VEVENT
SUMMARY:New instrumented baffles for AdV+ upgrade
DTSTART;VALUE=DATE-TIME:20191022T081000Z
DTEND;VALUE=DATE-TIME:20191022T083000Z
DTSTAMP;VALUE=DATE-TIME:20260422T143020Z
UID:indico-contribution-11457@indico.ific.uv.es
DESCRIPTION:Speakers: Mario Martínez (ICREA/IFAE)\nhttps://indico.ific.uv
 .es/event/3780/contributions/11457/
LOCATION:
URL:https://indico.ific.uv.es/event/3780/contributions/11457/
END:VEVENT
END:VCALENDAR
