BEGIN:VCALENDAR
VERSION:2.0
PRODID:-//CERN//INDICO//EN
BEGIN:VEVENT
SUMMARY:LiquidO: A Novel Neutrino Detection Technology
DTSTART;VALUE=DATE-TIME:20191022T071000Z
DTEND;VALUE=DATE-TIME:20191022T073000Z
DTSTAMP;VALUE=DATE-TIME:20260422T143022Z
UID:indico-contribution-11456@indico.ific.uv.es
DESCRIPTION:Speakers: Carmen Palomares (CIEMAT)\nhttps://indico.ific.uv.es
 /event/3780/contributions/11456/
LOCATION:
URL:https://indico.ific.uv.es/event/3780/contributions/11456/
END:VEVENT
END:VCALENDAR
