BEGIN:VCALENDAR
VERSION:2.0
PRODID:-//CERN//INDICO//EN
BEGIN:VEVENT
SUMMARY:Measurement of the Electron and Positron Fluxes with AMS - 02
DTSTART;VALUE=DATE-TIME:20191021T132000Z
DTEND;VALUE=DATE-TIME:20191021T134000Z
DTSTAMP;VALUE=DATE-TIME:20260422T115545Z
UID:indico-contribution-11455@indico.ific.uv.es
DESCRIPTION:Speakers: Carmen Gámez (CIEMAT)\nhttps://indico.ific.uv.es/ev
 ent/3780/contributions/11455/
LOCATION:
URL:https://indico.ific.uv.es/event/3780/contributions/11455/
END:VEVENT
END:VCALENDAR
