BEGIN:VCALENDAR
VERSION:2.0
PRODID:-//CERN//INDICO//EN
BEGIN:VEVENT
SUMMARY:Anisotropy of Cosmic Rays Arrival Directions with AMS-02 on the In
 ternational Space Station
DTSTART;VALUE=DATE-TIME:20191021T134000Z
DTEND;VALUE=DATE-TIME:20191021T140000Z
DTSTAMP;VALUE=DATE-TIME:20260422T205345Z
UID:indico-contribution-11454@indico.ific.uv.es
DESCRIPTION:Speakers: Miguel Molero (CIEMAT)\nhttps://indico.ific.uv.es/ev
 ent/3780/contributions/11454/
LOCATION:
URL:https://indico.ific.uv.es/event/3780/contributions/11454/
END:VEVENT
END:VCALENDAR
