BEGIN:VCALENDAR
VERSION:2.0
PRODID:-//CERN//INDICO//EN
BEGIN:VEVENT
SUMMARY:PeV neutrino signals from decaying topological dark matter
DTSTART;VALUE=DATE-TIME:20191022T075000Z
DTEND;VALUE=DATE-TIME:20191022T081000Z
DTSTAMP;VALUE=DATE-TIME:20260422T112659Z
UID:indico-contribution-11453@indico.ific.uv.es
DESCRIPTION:Speakers: Clara Álvarez Luna (Universidad Complutense de Madr
 id)\nhttps://indico.ific.uv.es/event/3780/contributions/11453/
LOCATION:
URL:https://indico.ific.uv.es/event/3780/contributions/11453/
END:VEVENT
END:VCALENDAR
