BEGIN:VCALENDAR
VERSION:2.0
PRODID:-//CERN//INDICO//EN
BEGIN:VEVENT
SUMMARY:Recent results from the T2K experiment
DTSTART;VALUE=DATE-TIME:20191021T140000Z
DTEND;VALUE=DATE-TIME:20191021T142000Z
DTSTAMP;VALUE=DATE-TIME:20260422T143041Z
UID:indico-contribution-11452@indico.ific.uv.es
DESCRIPTION:Speakers: Maria Antonova (IFIC (CSIC-Univ Valencia))\nhttps://
 indico.ific.uv.es/event/3780/contributions/11452/
LOCATION:
URL:https://indico.ific.uv.es/event/3780/contributions/11452/
END:VEVENT
END:VCALENDAR
