BEGIN:VCALENDAR
VERSION:2.0
PRODID:-//CERN//INDICO//EN
BEGIN:VEVENT
SUMMARY:NEXT: results from NEXT-White and roadmap toward the ββ0ν searc
 h
DTSTART;VALUE=DATE-TIME:20191021T142000Z
DTEND;VALUE=DATE-TIME:20191021T144000Z
DTSTAMP;VALUE=DATE-TIME:20260422T204020Z
UID:indico-contribution-11451@indico.ific.uv.es
DESCRIPTION:Speakers: Pau Novella (IFIC (CSIC-Univ Valencia))\nhttps://ind
 ico.ific.uv.es/event/3780/contributions/11451/
LOCATION:
URL:https://indico.ific.uv.es/event/3780/contributions/11451/
END:VEVENT
END:VCALENDAR
