BEGIN:VCALENDAR
VERSION:2.0
PRODID:-//CERN//INDICO//EN
BEGIN:VEVENT
SUMMARY:The Sun at the TeV gammas\, neutrons\, neutrinos\, and a cosmic ra
 y shadow
DTSTART;VALUE=DATE-TIME:20191022T073000Z
DTEND;VALUE=DATE-TIME:20191022T075000Z
DTSTAMP;VALUE=DATE-TIME:20260422T143041Z
UID:indico-contribution-11450@indico.ific.uv.es
DESCRIPTION:Speakers: Miguel Gutiérrez (Universidad de Granada)\nhttps://
 indico.ific.uv.es/event/3780/contributions/11450/
LOCATION:
URL:https://indico.ific.uv.es/event/3780/contributions/11450/
END:VEVENT
END:VCALENDAR
