BEGIN:VCALENDAR
VERSION:2.0
PRODID:-//CERN//INDICO//EN
BEGIN:VEVENT
SUMMARY:Detector R&D - news from AIDA++ and the CSIC platform
DTSTART;VALUE=DATE-TIME:20191022T085500Z
DTEND;VALUE=DATE-TIME:20191022T090500Z
DTSTAMP;VALUE=DATE-TIME:20260422T151916Z
UID:indico-contribution-11401@indico.ific.uv.es
DESCRIPTION:Speakers: Ivan Vila Alvarez (Instituto de Física de Cantabria
  (CSIC-UC))\nhttps://indico.ific.uv.es/event/3780/contributions/11401/
LOCATION:
URL:https://indico.ific.uv.es/event/3780/contributions/11401/
END:VEVENT
END:VCALENDAR
