BEGIN:VCALENDAR
VERSION:2.0
PRODID:-//CERN//INDICO//EN
BEGIN:VEVENT
SUMMARY:Accelerator R&D - news
DTSTART;VALUE=DATE-TIME:20191022T073500Z
DTEND;VALUE=DATE-TIME:20191022T080500Z
DTSTAMP;VALUE=DATE-TIME:20260424T045101Z
UID:indico-contribution-11399@indico.ific.uv.es
DESCRIPTION:Speakers: Francis Perez (ALBA - CELLS)\nhttps://indico.ific.uv
 .es/event/3780/contributions/11399/
LOCATION:
URL:https://indico.ific.uv.es/event/3780/contributions/11399/
END:VEVENT
END:VCALENDAR
