BEGIN:VCALENDAR
VERSION:2.0
PRODID:-//CERN//INDICO//EN
BEGIN:VEVENT
SUMMARY:Introduction - the network for future colliders
DTSTART;VALUE=DATE-TIME:20191022T070000Z
DTEND;VALUE=DATE-TIME:20191022T071500Z
DTSTAMP;VALUE=DATE-TIME:20260422T115522Z
UID:indico-contribution-11398@indico.ific.uv.es
DESCRIPTION:Speakers: Marcel Vos (IFIC Valencia)\nhttps://indico.ific.uv.e
 s/event/3780/contributions/11398/
LOCATION:
URL:https://indico.ific.uv.es/event/3780/contributions/11398/
END:VEVENT
END:VCALENDAR
