BEGIN:VCALENDAR
VERSION:2.0
PRODID:-//CERN//INDICO//EN
BEGIN:VEVENT
SUMMARY:Núcleos Exóticos\, anatomía de un experimento de Física Nucle
 ar
DTSTART;VALUE=DATE-TIME:20190708T080000Z
DTEND;VALUE=DATE-TIME:20190708T084000Z
DTSTAMP;VALUE=DATE-TIME:20260422T195945Z
UID:indico-contribution-11031@indico.ific.uv.es
DESCRIPTION:Speakers: Enrique Nacher (Instituto de Estructura de la Materi
 a - CSIC)\nhttps://indico.ific.uv.es/event/3775/contributions/11031/
LOCATION:Nave Experimental Sala de Audiovisuales
URL:https://indico.ific.uv.es/event/3775/contributions/11031/
END:VEVENT
END:VCALENDAR
