BEGIN:VCALENDAR
VERSION:2.0
PRODID:-//CERN//INDICO//EN
BEGIN:VEVENT
SUMMARY:Do altered dispersion relations explain the LSND/MiniBooNE signals
 ?
DTSTART;VALUE=DATE-TIME:20190814T192000Z
DTEND;VALUE=DATE-TIME:20190814T194000Z
DTSTAMP;VALUE=DATE-TIME:20260419T193004Z
UID:indico-contribution-11338@indico.ific.uv.es
DESCRIPTION:Speakers: William Louis (LANL)\nThe LSND and MiniBooNE event e
 xcesses are compared to the predictions from altered dispersion relations.
 \n\nhttps://indico.ific.uv.es/event/3649/contributions/11338/
LOCATION:
URL:https://indico.ific.uv.es/event/3649/contributions/11338/
END:VEVENT
END:VCALENDAR
