BEGIN:VCALENDAR
VERSION:2.0
PRODID:-//CERN//INDICO//EN
BEGIN:VEVENT
SUMMARY:Introduction
DTSTART;VALUE=DATE-TIME:20180220T140000Z
DTEND;VALUE=DATE-TIME:20180220T142000Z
DTSTAMP;VALUE=DATE-TIME:20260422T043420Z
UID:indico-contribution-5970@indico.ific.uv.es
DESCRIPTION:https://indico.ific.uv.es/event/3255/contributions/5970/
LOCATION:Virtual Vidyo URL:
URL:https://indico.ific.uv.es/event/3255/contributions/5970/
END:VEVENT
END:VCALENDAR
