BEGIN:VCALENDAR
VERSION:2.0
PRODID:-//CERN//INDICO//EN
BEGIN:VEVENT
SUMMARY:Round table
DTSTART;VALUE=DATE-TIME:20180220T142000Z
DTEND;VALUE=DATE-TIME:20180220T150000Z
DTSTAMP;VALUE=DATE-TIME:20260422T004716Z
UID:indico-contribution-5969@indico.ific.uv.es
DESCRIPTION:https://indico.ific.uv.es/event/3255/contributions/5969/
LOCATION:Virtual Vidyo URL:
URL:https://indico.ific.uv.es/event/3255/contributions/5969/
END:VEVENT
END:VCALENDAR
