BEGIN:VCALENDAR
VERSION:2.0
PRODID:-//CERN//INDICO//EN
BEGIN:VEVENT
SUMMARY:KM3
DTSTART;VALUE=DATE-TIME:20100527T090000Z
DTEND;VALUE=DATE-TIME:20100527T091000Z
DTSTAMP;VALUE=DATE-TIME:20260422T185949Z
UID:indico-contribution-5442@indico.ific.uv.es
DESCRIPTION:Speakers: Diego Real (IFIC)\, Fernando Urbano (IFIC)\nhttps://
 indico.ific.uv.es/event/312/contributions/5442/
LOCATION: Sala Seminarios IFIC
URL:https://indico.ific.uv.es/event/312/contributions/5442/
END:VEVENT
END:VCALENDAR
