BEGIN:VCALENDAR
VERSION:2.0
PRODID:-//CERN//INDICO//EN
BEGIN:VEVENT
SUMMARY:ATLAS TileCal Upgrade
DTSTART;VALUE=DATE-TIME:20100527T085000Z
DTEND;VALUE=DATE-TIME:20100527T090000Z
DTSTAMP;VALUE=DATE-TIME:20260422T062047Z
UID:indico-contribution-5439@indico.ific.uv.es
DESCRIPTION:Speakers: Alberto Valero (IFIC- Universidad de Valencia)\, Pab
 lo Moreno (IFIC - Universidad de Valencia)\nhttps://indico.ific.uv.es/even
 t/312/contributions/5439/
LOCATION: Sala Seminarios IFIC
URL:https://indico.ific.uv.es/event/312/contributions/5439/
END:VEVENT
END:VCALENDAR
