BEGIN:VCALENDAR
VERSION:2.0
PRODID:-//CERN//INDICO//EN
BEGIN:VEVENT
SUMMARY:NEXT
DTSTART;VALUE=DATE-TIME:20100527T080000Z
DTEND;VALUE=DATE-TIME:20100527T081000Z
DTSTAMP;VALUE=DATE-TIME:20260422T124728Z
UID:indico-contribution-5438@indico.ific.uv.es
DESCRIPTION:Speakers: Alejandro Gil Ortiz (IFIC-UV)\, Javier Bayarri (IFIC
 )\nhttps://indico.ific.uv.es/event/312/contributions/5438/
LOCATION: Sala Seminarios IFIC
URL:https://indico.ific.uv.es/event/312/contributions/5438/
END:VEVENT
END:VCALENDAR
