BEGIN:VCALENDAR
VERSION:2.0
PRODID:-//CERN//INDICO//EN
BEGIN:VEVENT
SUMMARY:ATLAS Silicon Upgrade
DTSTART;VALUE=DATE-TIME:20100527T081000Z
DTEND;VALUE=DATE-TIME:20100527T082000Z
DTSTAMP;VALUE=DATE-TIME:20260423T185741Z
UID:indico-contribution-5437@indico.ific.uv.es
DESCRIPTION:Speakers: Pepe Bernabeu (IFIC)\, Ricardo Marco (IFIC)\nhttps:/
 /indico.ific.uv.es/event/312/contributions/5437/
LOCATION: Sala Seminarios IFIC
URL:https://indico.ific.uv.es/event/312/contributions/5437/
END:VEVENT
END:VCALENDAR
