BEGIN:VCALENDAR
VERSION:2.0
PRODID:-//CERN//INDICO//EN
BEGIN:VEVENT
SUMMARY:VLC TileCal contribution to VLC ATLAS meeting
DTSTART;VALUE=DATE-TIME:20070920T092000Z
DTEND;VALUE=DATE-TIME:20070920T094000Z
DTSTAMP;VALUE=DATE-TIME:20260424T050130Z
UID:indico-contribution-30-5111@indico.ific.uv.es
DESCRIPTION:Speakers: Bruce Mellado (Wisconsin)\nhttps://indico.ific.uv.es
 /event/30/contributions/5111/
LOCATION:
URL:https://indico.ific.uv.es/event/30/contributions/5111/
END:VEVENT
BEGIN:VEVENT
SUMMARY:Higgs to muons search and low Pt muon trigger status
DTSTART;VALUE=DATE-TIME:20070920T085000Z
DTEND;VALUE=DATE-TIME:20070920T090500Z
DTSTAMP;VALUE=DATE-TIME:20260424T050130Z
UID:indico-contribution-30-5110@indico.ific.uv.es
DESCRIPTION:Speakers: Arantxa Ruiz Martinez (IFIC-Valencia)\nhttps://indic
 o.ific.uv.es/event/30/contributions/5110/
LOCATION:
URL:https://indico.ific.uv.es/event/30/contributions/5110/
END:VEVENT
BEGIN:VEVENT
SUMMARY:Higgs to taus search status
DTSTART;VALUE=DATE-TIME:20070920T090500Z
DTEND;VALUE=DATE-TIME:20070920T092000Z
DTSTAMP;VALUE=DATE-TIME:20260424T050130Z
UID:indico-contribution-30-5109@indico.ific.uv.es
DESCRIPTION:Speakers: Carlos Solans (IFIC-Valencia)\nhttps://indico.ific.u
 v.es/event/30/contributions/5109/
LOCATION:
URL:https://indico.ific.uv.es/event/30/contributions/5109/
END:VEVENT
BEGIN:VEVENT
SUMMARY:Pre-ROD status
DTSTART;VALUE=DATE-TIME:20070920T082500Z
DTEND;VALUE=DATE-TIME:20070920T083500Z
DTSTAMP;VALUE=DATE-TIME:20260424T050130Z
UID:indico-contribution-30-5108@indico.ific.uv.es
DESCRIPTION:Speakers: Alberto Valero (IFIC- Valencia)\nhttps://indico.ific
 .uv.es/event/30/contributions/5108/
LOCATION:
URL:https://indico.ific.uv.es/event/30/contributions/5108/
END:VEVENT
BEGIN:VEVENT
SUMMARY:SUSY no-lepton search and OF-pile-up status
DTSTART;VALUE=DATE-TIME:20070920T083500Z
DTEND;VALUE=DATE-TIME:20070920T085000Z
DTSTAMP;VALUE=DATE-TIME:20260424T050130Z
UID:indico-contribution-30-5107@indico.ific.uv.es
DESCRIPTION:Speakers: Ximo Poveda (IFIC-Valencia)\nhttps://indico.ific.uv.
 es/event/30/contributions/5107/
LOCATION:
URL:https://indico.ific.uv.es/event/30/contributions/5107/
END:VEVENT
BEGIN:VEVENT
SUMMARY:Coommissioning activities
DTSTART;VALUE=DATE-TIME:20070920T080000Z
DTEND;VALUE=DATE-TIME:20070920T081500Z
DTSTAMP;VALUE=DATE-TIME:20260424T050130Z
UID:indico-contribution-30-5106@indico.ific.uv.es
DESCRIPTION:Speakers: Jalal Abdallah (IFIC-Valencia)\nhttps://indico.ific.
 uv.es/event/30/contributions/5106/
LOCATION:
URL:https://indico.ific.uv.es/event/30/contributions/5106/
END:VEVENT
BEGIN:VEVENT
SUMMARY:TDAQ commissioning activities
DTSTART;VALUE=DATE-TIME:20070920T081500Z
DTEND;VALUE=DATE-TIME:20070920T082500Z
DTSTAMP;VALUE=DATE-TIME:20260424T050130Z
UID:indico-contribution-30-5105@indico.ific.uv.es
DESCRIPTION:Speakers: Belen Salvachua (IFIC-Valencia)\, Carlos Solans (IFI
 C-Valencia)\nhttps://indico.ific.uv.es/event/30/contributions/5105/
LOCATION:
URL:https://indico.ific.uv.es/event/30/contributions/5105/
END:VEVENT
END:VCALENDAR
