BEGIN:VCALENDAR
VERSION:2.0
PRODID:-//CERN//INDICO//EN
BEGIN:VEVENT
SUMMARY:TileCal Meeting
DTSTART;VALUE=DATE-TIME:20070920T080000Z
DTEND;VALUE=DATE-TIME:20070920T113000Z
DTSTAMP;VALUE=DATE-TIME:20260424T131003Z
UID:indico-event-30@indico.ific.uv.es
DESCRIPTION:https://indico.ific.uv.es/event/30/
LOCATION:
URL:https://indico.ific.uv.es/event/30/
END:VEVENT
END:VCALENDAR
