BEGIN:VCALENDAR
VERSION:2.0
PRODID:-//CERN//INDICO//EN
BEGIN:VEVENT
SUMMARY:News from instrumentation review and next steps
DTSTART;VALUE=DATE-TIME:20170503T090000Z
DTEND;VALUE=DATE-TIME:20170503T094000Z
DTSTAMP;VALUE=DATE-TIME:20260424T064502Z
UID:indico-contribution-2999-5104@indico.ific.uv.es
DESCRIPTION:Speakers: ANSELMO CERVERA (IFIC)\nhttps://indico.ific.uv.es/ev
 ent/2999/contributions/5104/
LOCATION:Universe 1001-Primera-119 - Nave. Exp. Sala de Reuniones
URL:https://indico.ific.uv.es/event/2999/contributions/5104/
END:VEVENT
BEGIN:VEVENT
SUMMARY:Mechanics update
DTSTART;VALUE=DATE-TIME:20170503T094000Z
DTEND;VALUE=DATE-TIME:20170503T100000Z
DTSTAMP;VALUE=DATE-TIME:20260424T064502Z
UID:indico-contribution-2999-5103@indico.ific.uv.es
DESCRIPTION:Speakers: Pablo León (CSIC)\nhttps://indico.ific.uv.es/event/
 2999/contributions/5103/
LOCATION:Universe 1001-Primera-119 - Nave. Exp. Sala de Reuniones
URL:https://indico.ific.uv.es/event/2999/contributions/5103/
END:VEVENT
END:VCALENDAR
