BEGIN:VCALENDAR
VERSION:2.0
PRODID:-//CERN//INDICO//EN
BEGIN:VEVENT
SUMMARY:ProtoDUNE-SP IFIC meeting
DTSTART;VALUE=DATE-TIME:20170503T090000Z
DTEND;VALUE=DATE-TIME:20170503T110000Z
DTSTAMP;VALUE=DATE-TIME:20260420T100335Z
UID:indico-event-2999@indico.ific.uv.es
DESCRIPTION:https://indico.ific.uv.es/event/2999/
LOCATION:Universe 1001-Primera-119 - Nave. Exp. Sala de Reuniones
URL:https://indico.ific.uv.es/event/2999/
END:VEVENT
END:VCALENDAR
