BEGIN:VCALENDAR
VERSION:2.0
PRODID:-//CERN//INDICO//EN
BEGIN:VEVENT
SUMMARY:Trobada: Topics on composite Higgs
DTSTART;VALUE=DATE-TIME:20170228T103000Z
DTEND;VALUE=DATE-TIME:20170228T113000Z
DTSTAMP;VALUE=DATE-TIME:20260424T024856Z
UID:indico-event-2918@indico.ific.uv.es
DESCRIPTION:\n    The motivation\, the structure and the phenomenology of 
 Composite Higgs models will be briefly reviewed. Current LHC constraints a
 nd run-2 expectations will be also discussed.\n\nhttps://indico.ific.uv.es
 /event/2918/
LOCATION:IFIC Seminar Room\, 1.1.1
URL:https://indico.ific.uv.es/event/2918/
END:VEVENT
END:VCALENDAR
