BEGIN:VCALENDAR
VERSION:2.0
PRODID:-//CERN//INDICO//EN
BEGIN:VEVENT
SUMMARY:#StudentSeminar Exotic states and hadronic molecules
DTSTART;VALUE=DATE-TIME:20170213T153000Z
DTEND;VALUE=DATE-TIME:20170213T163000Z
DTSTAMP;VALUE=DATE-TIME:20260420T045654Z
UID:indico-event-2907@indico.ific.uv.es
DESCRIPTION:The strong interaction in the charm and bottom sectors produce
 s a rich fauna of states. Some of these states do not fit in the classical
  picture given by quark models\, the so-called exotic states. Here we will
  focus on some interesting examples of candidates to exotic mesons and we 
 will discuss how they fit in a molecular description. For this purpose we 
 will present finite volume calculations in models where mesons are the fun
 damental degrees of freedom which provide for an interpretation of lattice
  QCD results.\n\nhttps://indico.ific.uv.es/event/2907/
LOCATION:Universe 1001-Primera-1-1-1 - Paterna. Seminario
URL:https://indico.ific.uv.es/event/2907/
END:VEVENT
END:VCALENDAR
