BEGIN:VCALENDAR
VERSION:2.0
PRODID:-//CERN//INDICO//EN
BEGIN:VEVENT
SUMMARY:Trobada: Predictive Marketing: AI for Business
DTSTART;VALUE=DATE-TIME:20170214T103000Z
DTEND;VALUE=DATE-TIME:20170214T113000Z
DTSTAMP;VALUE=DATE-TIME:20260422T122153Z
UID:indico-event-2882@indico.ific.uv.es
DESCRIPTION:\n    In this seminar we will talk about the meaning and natur
 e of Predictive Marketing\, Artificial Intelligence and Big Data when appl
 ied to business. We will describe some examples of real business problems 
 where Predictive Marketing is currently used\, and also some examples of s
 tatistical and machine learning techniques applied to approach solutions t
 o those problems. We will also talk about the philosophy\, and why Predict
 ive Marketing is good for companies and for consumers.\n\nhttps://indico.i
 fic.uv.es/event/2882/
LOCATION:IFIC Seminar Room\, 1.1.1
URL:https://indico.ific.uv.es/event/2882/
END:VEVENT
END:VCALENDAR
