BEGIN:VCALENDAR
VERSION:2.0
PRODID:-//CERN//INDICO//EN
BEGIN:VEVENT
SUMMARY:Exotic Zb\, X(3872) and X(5568)
DTSTART;VALUE=DATE-TIME:20161222T094500Z
DTEND;VALUE=DATE-TIME:20161222T110000Z
DTSTAMP;VALUE=DATE-TIME:20260420T112053Z
UID:indico-event-2877@indico.ific.uv.es
DESCRIPTION:We have carefully examined the XYZ states and find that Zb sta
 tes are molecular and the compositeness are quantified. Using a more gener
 al parameterization than effective range expansion\, we find that X(3872) 
 can be either virtual states or bound states\, which can reproduce experim
 ental data equally well. At last we show the connection of the P-wave $B^*
 \\pi$ interaction and X(5568) by using the chiral unitary approach.\n\nhtt
 ps://indico.ific.uv.es/event/2877/
LOCATION:Universe 1001-Primera-135 - Nave Exp. Sala de Audiovisuales
URL:https://indico.ific.uv.es/event/2877/
END:VEVENT
END:VCALENDAR
