BEGIN:VCALENDAR
VERSION:2.0
PRODID:-//CERN//INDICO//EN
BEGIN:VEVENT
SUMMARY:#StudentSeminar b -> s l l anomalies from dynamical Yukawas
DTSTART;VALUE=DATE-TIME:20161215T160000Z
DTEND;VALUE=DATE-TIME:20161215T170000Z
DTSTAMP;VALUE=DATE-TIME:20260423T132614Z
UID:indico-event-2871@indico.ific.uv.es
DESCRIPTION:The LHCb and Belle collaborations have recently reported some 
 hints for New Physics in b → s l l transitions that\, taken at face valu
 e\, point to a large violation of flavor universality in the lepton sector
 . Motivated by them\, I will present a model able to accommodate the exper
 imental anomalies and\, at the same time\, address the flavor problem of t
 he SM. The model is based on the idea of dynamical Yukawa couplings where 
 it is assumed that they are generated from dynamical fields\, whose vacuum
  expectation values minimize a generic potential invariant under a large n
 on-Abelian flavor symmetry.\n\nhttps://indico.ific.uv.es/event/2871/
LOCATION:Universe 1001-Primera-1-1-1 - Paterna. Seminario
URL:https://indico.ific.uv.es/event/2871/
END:VEVENT
END:VCALENDAR
