BEGIN:VCALENDAR
VERSION:2.0
PRODID:-//CERN//INDICO//EN
BEGIN:VEVENT
SUMMARY:Webinar: CP Violation\, Baryon Oscillations\, and Baryogenesis
DTSTART;VALUE=DATE-TIME:20161220T150000Z
DTEND;VALUE=DATE-TIME:20161220T160000Z
DTSTAMP;VALUE=DATE-TIME:20260420T182126Z
UID:indico-event-2868@indico.ific.uv.es
DESCRIPTION:\n    I discuss CP violating oscillations of neutral baryons i
 nto anti baryons\, and propose an experimentally allowed scenario where so
 me heavy flavored baryons oscillate at rates which are within a few orders
  of magnitude of their lifetimes\, while the flavor structure of the baryo
 n violation suppresses neutron oscillations and baryon violating nuclear d
 ecays to experimentally allowed rates. I describe a scenario for producing
  such baryons in the early universe via the out of equilibrium decays of a
  neutral particle\, after the hadronization temperature but before nucleos
 ynthesis\, and the prospects for baryogenesis.\n    \n    Connect to:\n   
  http://reunion.uv.es/webinar201217/\n\nhttps://indico.ific.uv.es/event/28
 68/
LOCATION:Online
URL:https://indico.ific.uv.es/event/2868/
END:VEVENT
END:VCALENDAR
