BEGIN:VCALENDAR
VERSION:2.0
PRODID:-//CERN//INDICO//EN
BEGIN:VEVENT
SUMMARY:Seminar: Single-top BSM physics
DTSTART;VALUE=DATE-TIME:20161213T153500Z
DTEND;VALUE=DATE-TIME:20161213T161500Z
DTSTAMP;VALUE=DATE-TIME:20260421T141035Z
UID:indico-contribution-4585@indico.ific.uv.es
DESCRIPTION:Speakers: Juan Antonio Aguilar Saavedra ()\nhttps://indico.ifi
 c.uv.es/event/2866/contributions/4585/
LOCATION:Parc Científic Salón de Actos Edificio de Cabecera
URL:https://indico.ific.uv.es/event/2866/contributions/4585/
END:VEVENT
END:VCALENDAR
