BEGIN:VCALENDAR
VERSION:2.0
PRODID:-//CERN//INDICO//EN
BEGIN:VEVENT
SUMMARY:Seminar: Single-top SM physics
DTSTART;VALUE=DATE-TIME:20161213T141500Z
DTEND;VALUE=DATE-TIME:20161213T145500Z
DTSTAMP;VALUE=DATE-TIME:20260422T032947Z
UID:indico-contribution-4583@indico.ific.uv.es
DESCRIPTION:Speakers: Rikkert Frederix ()\nhttps://indico.ific.uv.es/event
 /2866/contributions/4583/
LOCATION:Parc Científic Salón de Actos Edificio de Cabecera
URL:https://indico.ific.uv.es/event/2866/contributions/4583/
END:VEVENT
END:VCALENDAR
